BEGIN:VCALENDAR
VERSION:2.0
PRODID:-//Kara Briggs - ECPv6.15.10//NONSGML v1.0//EN
CALSCALE:GREGORIAN
METHOD:PUBLISH
X-ORIGINAL-URL:https://www.karabriggs.com
X-WR-CALDESC:Events for Kara Briggs
REFRESH-INTERVAL;VALUE=DURATION:PT1H
X-Robots-Tag:noindex
X-PUBLISHED-TTL:PT1H
BEGIN:VTIMEZONE
TZID:America/Los_Angeles
BEGIN:DAYLIGHT
TZOFFSETFROM:-0800
TZOFFSETTO:-0700
TZNAME:PDT
DTSTART:20230312T100000
END:DAYLIGHT
BEGIN:STANDARD
TZOFFSETFROM:-0700
TZOFFSETTO:-0800
TZNAME:PST
DTSTART:20231105T090000
END:STANDARD
BEGIN:DAYLIGHT
TZOFFSETFROM:-0800
TZOFFSETTO:-0700
TZNAME:PDT
DTSTART:20240310T100000
END:DAYLIGHT
BEGIN:STANDARD
TZOFFSETFROM:-0700
TZOFFSETTO:-0800
TZNAME:PST
DTSTART:20241103T090000
END:STANDARD
BEGIN:DAYLIGHT
TZOFFSETFROM:-0800
TZOFFSETTO:-0700
TZNAME:PDT
DTSTART:20250309T100000
END:DAYLIGHT
BEGIN:STANDARD
TZOFFSETFROM:-0700
TZOFFSETTO:-0800
TZNAME:PST
DTSTART:20251102T090000
END:STANDARD
END:VTIMEZONE
BEGIN:VEVENT
DTSTART;TZID=America/Los_Angeles:20241102T150000
DTEND;TZID=America/Los_Angeles:20241102T160000
DTSTAMP:20260424T085224
CREATED:20241011T054056Z
LAST-MODIFIED:20241011T054056Z
UID:638-1730559600-1730563200@www.karabriggs.com
SUMMARY:Darrington Library Reading: Rivers in My Veins Author Kara Briggs
DESCRIPTION:
URL:https://www.karabriggs.com/event/darrington-library-reading-rivers-in-my-veins-author-kara-briggs/
LOCATION:1005 Cascade St Darrington WA 98241\, 1005 Cascade St\, Darrington\, WA\, 98241\, United States
CATEGORIES:Featured Reader
END:VEVENT
BEGIN:VEVENT
DTSTART;TZID=America/Los_Angeles:20241108T060000
DTEND;TZID=America/Los_Angeles:20241108T183000
DTSTAMP:20260424T085224
CREATED:20251116T014944Z
LAST-MODIFIED:20251116T014944Z
UID:751-1731045600-1731090600@www.karabriggs.com
SUMMARY:Ecotrust's Indigenous Agroforestry Gathering Closing Event
DESCRIPTION:Kara is featured reader at the closing event for the Indigenous Agroforestry Gathering in Trinidad\, CA\, a closed event.
URL:https://www.karabriggs.com/event/ecotrusts-indigenous-agroforestry-gathering-closing-event/
CATEGORIES:Featured Reader
END:VEVENT
BEGIN:VEVENT
DTSTART;TZID=America/Los_Angeles:20241121T180000
DTEND;TZID=America/Los_Angeles:20241121T190000
DTSTAMP:20260424T085224
CREATED:20241011T054442Z
LAST-MODIFIED:20241011T054442Z
UID:641-1732212000-1732215600@www.karabriggs.com
SUMMARY:Marysville Library Kara Briggs Rivers in My Veins
DESCRIPTION:
URL:https://www.karabriggs.com/event/marysville-library-kara-briggs-rivers-in-my-veins/
LOCATION:6120 Grove St Marysville WA 98270-4127\, 6120 Grove St\, Marysville\, WA\, 98270\, United States
CATEGORIES:Featured Reader
END:VEVENT
BEGIN:VEVENT
DTSTART;TZID=America/Los_Angeles:20241123T140000
DTEND;TZID=America/Los_Angeles:20241123T150000
DTSTAMP:20260424T085224
CREATED:20241011T054841Z
LAST-MODIFIED:20241011T054841Z
UID:645-1732370400-1732374000@www.karabriggs.com
SUMMARY:Edmonds Library Author Kara Briggs
DESCRIPTION:
URL:https://www.karabriggs.com/event/edmonds-library-author-kara-briggs/
LOCATION:650 Main St Edmonds WA 98020-3056\, 650 Main St\, Edmonds\, WA\, 98020\, United States
CATEGORIES:Featured Reader
END:VEVENT
END:VCALENDAR