BEGIN:VCALENDAR
VERSION:2.0
PRODID:-//Kara Briggs - ECPv6.15.10//NONSGML v1.0//EN
CALSCALE:GREGORIAN
METHOD:PUBLISH
X-WR-CALNAME:Kara Briggs
X-ORIGINAL-URL:https://www.karabriggs.com
X-WR-CALDESC:Events for Kara Briggs
REFRESH-INTERVAL;VALUE=DURATION:PT1H
X-Robots-Tag:noindex
X-PUBLISHED-TTL:PT1H
BEGIN:VTIMEZONE
TZID:America/Los_Angeles
BEGIN:DAYLIGHT
TZOFFSETFROM:-0800
TZOFFSETTO:-0700
TZNAME:PDT
DTSTART:20230312T100000
END:DAYLIGHT
BEGIN:STANDARD
TZOFFSETFROM:-0700
TZOFFSETTO:-0800
TZNAME:PST
DTSTART:20231105T090000
END:STANDARD
BEGIN:DAYLIGHT
TZOFFSETFROM:-0800
TZOFFSETTO:-0700
TZNAME:PDT
DTSTART:20240310T100000
END:DAYLIGHT
BEGIN:STANDARD
TZOFFSETFROM:-0700
TZOFFSETTO:-0800
TZNAME:PST
DTSTART:20241103T090000
END:STANDARD
BEGIN:DAYLIGHT
TZOFFSETFROM:-0800
TZOFFSETTO:-0700
TZNAME:PDT
DTSTART:20250309T100000
END:DAYLIGHT
BEGIN:STANDARD
TZOFFSETFROM:-0700
TZOFFSETTO:-0800
TZNAME:PST
DTSTART:20251102T090000
END:STANDARD
BEGIN:DAYLIGHT
TZOFFSETFROM:-0800
TZOFFSETTO:-0700
TZNAME:PDT
DTSTART:20260308T100000
END:DAYLIGHT
BEGIN:STANDARD
TZOFFSETFROM:-0700
TZOFFSETTO:-0800
TZNAME:PST
DTSTART:20261101T090000
END:STANDARD
END:VTIMEZONE
BEGIN:VEVENT
DTSTART;TZID=America/Los_Angeles:20250302T150000
DTEND;TZID=America/Los_Angeles:20250302T160000
DTSTAMP:20260423T110000
CREATED:20250111T050951Z
LAST-MODIFIED:20250111T050951Z
UID:669-1740927600-1740931200@www.karabriggs.com
SUMMARY:Village Books
DESCRIPTION:
URL:https://www.karabriggs.com/event/village-books/
LOCATION:Village Books\, 1200 11th Street\, Bellingham\, WA\, 98222\, United States
CATEGORIES:Featured Reader
END:VEVENT
BEGIN:VEVENT
DTSTART;TZID=America/Los_Angeles:20250301T140000
DTEND;TZID=America/Los_Angeles:20250301T150000
DTSTAMP:20260423T110000
CREATED:20250111T050433Z
LAST-MODIFIED:20250111T053900Z
UID:666-1740837600-1740841200@www.karabriggs.com
SUMMARY:Washington History Society
DESCRIPTION:I am the featured reader at the Washington Historical Society store. Rivers in My Veins asks readers to reconsider the history they know or think they know about the lands and waters of the Northwest.
URL:https://www.karabriggs.com/event/washington-historical-society/
LOCATION:Washington Historical Society\, 1911 Pacific Avenue\, Tacoma\, 98402\, United States
CATEGORIES:Featured Reader
END:VEVENT
BEGIN:VEVENT
DTSTART;TZID=America/Los_Angeles:20250228T140000
DTEND;TZID=America/Los_Angeles:20251115T150000
DTSTAMP:20260423T110000
CREATED:20251116T015156Z
LAST-MODIFIED:20251116T015216Z
UID:753-1740751200-1763218800@www.karabriggs.com
SUMMARY:Washington State History Museum Featuring Kara Briggs
DESCRIPTION:washingtonhistory\n\n\nFeb. 28 \n\nKara Briggs (Sauk-Suiattle) has spent decades telling stories—first as a journalist\, now as a poet. \nA resident of the Tulalip Reservation and a descendant of the Yakama Nation\, she has worked with tribes from Arizona to Alaska\, advocating for Indigenous communities and their connection to land and water. \nWith an MFA in Creative Writing from the Institute of American Indian Arts and a background in public and tribal administration\, her debut poetry collection\, “Rivers in My Veins\,” is a personal and historical exploration of her tribal family’s deep ties to the Cascade Mountains and Columbia
URL:https://www.karabriggs.com/event/washington-state-history-museum-featuring-kara-briggs/
LOCATION:Washington State History Museum
CATEGORIES:Featured Reader
END:VEVENT
BEGIN:VEVENT
DTSTART;TZID=America/Los_Angeles:20250220T180000
DTEND;TZID=America/Los_Angeles:20250220T200000
DTSTAMP:20260423T110001
CREATED:20250111T050039Z
LAST-MODIFIED:20250111T050039Z
UID:663-1740074400-1740081600@www.karabriggs.com
SUMMARY:Broadway Books
DESCRIPTION:Kara is the featured Teader along with poets Paula Peterson\, former Oregon Poet Laureate\, and Sandy Yannone\, Poet Laureate of Town of Old Saybrook\, Connecticut at this respected\, sophisticated independent book ship in Northeast Portland.
URL:https://www.karabriggs.com/event/broadway-books/
LOCATION:1714 NE Broadway\, Portland\, Oregon\, 1714 NE Broadway\, Portland\, 97323\, United States
CATEGORIES:Featured Reader
END:VEVENT
BEGIN:VEVENT
DTSTART;TZID=America/Los_Angeles:20250216T130000
DTEND;TZID=America/Los_Angeles:20250216T150000
DTSTAMP:20260423T110001
CREATED:20250211T055457Z
LAST-MODIFIED:20250211T055457Z
UID:692-1739710800-1739718000@www.karabriggs.com
SUMMARY:Skagit River Poetry Foundation
DESCRIPTION:I am reading at the Skagit River Interpretive Center on the powerful beauty of the Skagit River during the season of eagles\, in the homelands of Sauk-Suiattle.
URL:https://www.karabriggs.com/event/skagit-river-poetry-foundation/
LOCATION:Skagit River Interpretive Center\, 52804 Rockport Park RD\, Rockport\, 98283\, United States
CATEGORIES:Featured Reader
END:VEVENT
BEGIN:VEVENT
DTSTART;TZID=America/Los_Angeles:20250212T150000
DTEND;TZID=America/Los_Angeles:20251115T160000
DTSTAMP:20260423T110001
CREATED:20251116T014442Z
LAST-MODIFIED:20251116T014703Z
UID:749-1739372400-1763222400@www.karabriggs.com
SUMMARY:Whitefoot Studio Reading
DESCRIPTION:Kara is partnering with Whitefoot Studio and the Yakama Nation to hold a reading in its Harrah antique store. The readings is for Yakama elders\, including Kara’s family\, to hear the Yakama poems in Rivers in My Veins
URL:https://www.karabriggs.com/event/whitefoot-studio-reading/
CATEGORIES:Featured Reader
END:VEVENT
BEGIN:VEVENT
DTSTART;TZID=America/Los_Angeles:20250113T050000
DTEND;TZID=America/Los_Angeles:20250113T200000
DTSTAMP:20260423T110001
CREATED:20240908T052749Z
LAST-MODIFIED:20240908T053849Z
UID:557-1736744400-1736798400@www.karabriggs.com
SUMMARY:Everett Poetry Night - Featured Reader
DESCRIPTION:Everett Poetry Night\nEvery Monday 5:00 – 8:00 p.m. \nThe Sisters Restaurant \n2804 Grand Ave\, Everett\, WA 98201 \n\n\n5:00–5:30 p.m. sign up \n\n\n5:45–7:15 p.m. open mic \n\n\n7:15–7:45 p.m. featured poet  \n\n\n7:45 – 8:00 p.m. purchase books/chat with featured poet
URL:https://www.karabriggs.com/event/everett-poetry-night-featured-reader/
LOCATION:2804 Grand Ave\, Everett\, WA 98201\, 2804 Grand Ave\, Everett\, 98201\, United States
CATEGORIES:Featured Reader
END:VEVENT
BEGIN:VEVENT
DTSTART;TZID=America/Los_Angeles:20241123T140000
DTEND;TZID=America/Los_Angeles:20241123T150000
DTSTAMP:20260423T110001
CREATED:20241011T054841Z
LAST-MODIFIED:20241011T054841Z
UID:645-1732370400-1732374000@www.karabriggs.com
SUMMARY:Edmonds Library Author Kara Briggs
DESCRIPTION:
URL:https://www.karabriggs.com/event/edmonds-library-author-kara-briggs/
LOCATION:650 Main St Edmonds WA 98020-3056\, 650 Main St\, Edmonds\, WA\, 98020\, United States
CATEGORIES:Featured Reader
END:VEVENT
BEGIN:VEVENT
DTSTART;TZID=America/Los_Angeles:20241121T180000
DTEND;TZID=America/Los_Angeles:20241121T190000
DTSTAMP:20260423T110001
CREATED:20241011T054442Z
LAST-MODIFIED:20241011T054442Z
UID:641-1732212000-1732215600@www.karabriggs.com
SUMMARY:Marysville Library Kara Briggs Rivers in My Veins
DESCRIPTION:
URL:https://www.karabriggs.com/event/marysville-library-kara-briggs-rivers-in-my-veins/
LOCATION:6120 Grove St Marysville WA 98270-4127\, 6120 Grove St\, Marysville\, WA\, 98270\, United States
CATEGORIES:Featured Reader
END:VEVENT
BEGIN:VEVENT
DTSTART;TZID=America/Los_Angeles:20241108T060000
DTEND;TZID=America/Los_Angeles:20241108T183000
DTSTAMP:20260423T110001
CREATED:20251116T014944Z
LAST-MODIFIED:20251116T014944Z
UID:751-1731045600-1731090600@www.karabriggs.com
SUMMARY:Ecotrust's Indigenous Agroforestry Gathering Closing Event
DESCRIPTION:Kara is featured reader at the closing event for the Indigenous Agroforestry Gathering in Trinidad\, CA\, a closed event.
URL:https://www.karabriggs.com/event/ecotrusts-indigenous-agroforestry-gathering-closing-event/
CATEGORIES:Featured Reader
END:VEVENT
BEGIN:VEVENT
DTSTART;TZID=America/Los_Angeles:20241102T150000
DTEND;TZID=America/Los_Angeles:20241102T160000
DTSTAMP:20260423T110001
CREATED:20241011T054056Z
LAST-MODIFIED:20241011T054056Z
UID:638-1730559600-1730563200@www.karabriggs.com
SUMMARY:Darrington Library Reading: Rivers in My Veins Author Kara Briggs
DESCRIPTION:
URL:https://www.karabriggs.com/event/darrington-library-reading-rivers-in-my-veins-author-kara-briggs/
LOCATION:1005 Cascade St Darrington WA 98241\, 1005 Cascade St\, Darrington\, WA\, 98241\, United States
CATEGORIES:Featured Reader
END:VEVENT
BEGIN:VEVENT
DTSTART;TZID=America/Los_Angeles:20241026T180000
DTEND;TZID=America/Los_Angeles:20241026T190000
DTSTAMP:20260423T110001
CREATED:20241011T052728Z
LAST-MODIFIED:20241011T052728Z
UID:634-1729965600-1729969200@www.karabriggs.com
SUMMARY:Orca Books Cooperative Reading
DESCRIPTION:
URL:https://www.karabriggs.com/event/orca-books-cooperative-reading/
LOCATION:315 5th Ave SE Olympia\, WA 98501\, 315 5th Ave SE\, Olympia\, WA\, 98501\, United States
CATEGORIES:Featured Reader
END:VEVENT
END:VCALENDAR