BEGIN:VCALENDAR
VERSION:2.0
PRODID:-//Kara Briggs - ECPv6.15.10//NONSGML v1.0//EN
CALSCALE:GREGORIAN
METHOD:PUBLISH
X-ORIGINAL-URL:https://www.karabriggs.com
X-WR-CALDESC:Events for Kara Briggs
REFRESH-INTERVAL;VALUE=DURATION:PT1H
X-Robots-Tag:noindex
X-PUBLISHED-TTL:PT1H
BEGIN:VTIMEZONE
TZID:America/Los_Angeles
BEGIN:DAYLIGHT
TZOFFSETFROM:-0800
TZOFFSETTO:-0700
TZNAME:PDT
DTSTART:20240310T100000
END:DAYLIGHT
BEGIN:STANDARD
TZOFFSETFROM:-0700
TZOFFSETTO:-0800
TZNAME:PST
DTSTART:20241103T090000
END:STANDARD
BEGIN:DAYLIGHT
TZOFFSETFROM:-0800
TZOFFSETTO:-0700
TZNAME:PDT
DTSTART:20250309T100000
END:DAYLIGHT
BEGIN:STANDARD
TZOFFSETFROM:-0700
TZOFFSETTO:-0800
TZNAME:PST
DTSTART:20251102T090000
END:STANDARD
BEGIN:DAYLIGHT
TZOFFSETFROM:-0800
TZOFFSETTO:-0700
TZNAME:PDT
DTSTART:20260308T100000
END:DAYLIGHT
BEGIN:STANDARD
TZOFFSETFROM:-0700
TZOFFSETTO:-0800
TZNAME:PST
DTSTART:20261101T090000
END:STANDARD
BEGIN:DAYLIGHT
TZOFFSETFROM:-0800
TZOFFSETTO:-0700
TZNAME:PDT
DTSTART:20270314T100000
END:DAYLIGHT
BEGIN:STANDARD
TZOFFSETFROM:-0700
TZOFFSETTO:-0800
TZNAME:PST
DTSTART:20271107T090000
END:STANDARD
BEGIN:DAYLIGHT
TZOFFSETFROM:-0800
TZOFFSETTO:-0700
TZNAME:PDT
DTSTART:20280312T100000
END:DAYLIGHT
BEGIN:STANDARD
TZOFFSETFROM:-0700
TZOFFSETTO:-0800
TZNAME:PST
DTSTART:20281105T090000
END:STANDARD
BEGIN:DAYLIGHT
TZOFFSETFROM:-0800
TZOFFSETTO:-0700
TZNAME:PDT
DTSTART:20290311T100000
END:DAYLIGHT
BEGIN:STANDARD
TZOFFSETFROM:-0700
TZOFFSETTO:-0800
TZNAME:PST
DTSTART:20291104T090000
END:STANDARD
BEGIN:DAYLIGHT
TZOFFSETFROM:-0800
TZOFFSETTO:-0700
TZNAME:PDT
DTSTART:20300310T100000
END:DAYLIGHT
BEGIN:STANDARD
TZOFFSETFROM:-0700
TZOFFSETTO:-0800
TZNAME:PST
DTSTART:20301103T090000
END:STANDARD
BEGIN:DAYLIGHT
TZOFFSETFROM:-0800
TZOFFSETTO:-0700
TZNAME:PDT
DTSTART:20310309T100000
END:DAYLIGHT
BEGIN:STANDARD
TZOFFSETFROM:-0700
TZOFFSETTO:-0800
TZNAME:PST
DTSTART:20311102T090000
END:STANDARD
BEGIN:DAYLIGHT
TZOFFSETFROM:-0800
TZOFFSETTO:-0700
TZNAME:PDT
DTSTART:20320314T100000
END:DAYLIGHT
BEGIN:STANDARD
TZOFFSETFROM:-0700
TZOFFSETTO:-0800
TZNAME:PST
DTSTART:20321107T090000
END:STANDARD
BEGIN:DAYLIGHT
TZOFFSETFROM:-0800
TZOFFSETTO:-0700
TZNAME:PDT
DTSTART:20330313T100000
END:DAYLIGHT
BEGIN:STANDARD
TZOFFSETFROM:-0700
TZOFFSETTO:-0800
TZNAME:PST
DTSTART:20331106T090000
END:STANDARD
BEGIN:DAYLIGHT
TZOFFSETFROM:-0800
TZOFFSETTO:-0700
TZNAME:PDT
DTSTART:20340312T100000
END:DAYLIGHT
BEGIN:STANDARD
TZOFFSETFROM:-0700
TZOFFSETTO:-0800
TZNAME:PST
DTSTART:20341105T090000
END:STANDARD
BEGIN:DAYLIGHT
TZOFFSETFROM:-0800
TZOFFSETTO:-0700
TZNAME:PDT
DTSTART:20350311T100000
END:DAYLIGHT
BEGIN:STANDARD
TZOFFSETFROM:-0700
TZOFFSETTO:-0800
TZNAME:PST
DTSTART:20351104T090000
END:STANDARD
BEGIN:DAYLIGHT
TZOFFSETFROM:-0800
TZOFFSETTO:-0700
TZNAME:PDT
DTSTART:20360309T100000
END:DAYLIGHT
BEGIN:STANDARD
TZOFFSETFROM:-0700
TZOFFSETTO:-0800
TZNAME:PST
DTSTART:20361102T090000
END:STANDARD
BEGIN:DAYLIGHT
TZOFFSETFROM:-0800
TZOFFSETTO:-0700
TZNAME:PDT
DTSTART:20370308T100000
END:DAYLIGHT
BEGIN:STANDARD
TZOFFSETFROM:-0700
TZOFFSETTO:-0800
TZNAME:PST
DTSTART:20371101T090000
END:STANDARD
END:VTIMEZONE
BEGIN:VEVENT
DTSTART;TZID=America/Los_Angeles:20250305T190000
DTEND;TZID=America/Los_Angeles:20250305T210000
DTSTAMP:20260425T085813
CREATED:20251116T013824Z
LAST-MODIFIED:20251116T015629Z
UID:741-1741201200-1741208400@www.karabriggs.com
SUMMARY:AWP Reading
DESCRIPTION:SWWIM-Cultivating Voices Reading during AWP featuring 30 women poets\, in Downtown Los Angeles
URL:https://www.karabriggs.com/event/awp-reading/
CATEGORIES:Featured Reader
END:VEVENT
BEGIN:VEVENT
DTSTART;TZID=America/Los_Angeles:20250311T110000
DTEND;TZID=America/Los_Angeles:20250311T120000
DTSTAMP:20260425T085813
CREATED:20250111T051929Z
LAST-MODIFIED:20250111T052049Z
UID:672-1741690800-1741694400@www.karabriggs.com
SUMMARY:Columbia River Maritime Museum
DESCRIPTION:Kara is reading at the spectacular Columbia River Maritime Museum in beautiful Astoria\, Oregon.
URL:https://www.karabriggs.com/event/columbia-river-maritime-museum/
LOCATION:Columbia River Maritime Museum\, 1792 Marine Drive\, Astoria\, OR\, 97203\, United States
CATEGORIES:Featured Reader
END:VEVENT
BEGIN:VEVENT
DTSTART;TZID=America/Los_Angeles:20250312T190000
DTEND;TZID=America/Los_Angeles:20250312T200000
DTSTAMP:20260425T085813
CREATED:20250111T052443Z
LAST-MODIFIED:20250211T060912Z
UID:675-1741806000-1741809600@www.karabriggs.com
SUMMARY:Yakima Coffeehouse Poets
DESCRIPTION:Thrilled to be invited to read at the Yakima Coffeehouse Poets on March 12. Very excited to be in Yakima for this reading\, near to my friends and family on Yakama Nation. \n 
URL:https://www.karabriggs.com/event/yakima-coffeehouse-poets/
LOCATION:Yakima Coffeehouse\, 3506 W Chestnut Ave\, Yakima\, WA\, 98902\, United States
CATEGORIES:Featured Reader
END:VEVENT
BEGIN:VEVENT
DTSTART;TZID=America/Los_Angeles:20250517T140000
DTEND;TZID=America/Los_Angeles:20250517T150000
DTSTAMP:20260425T085813
CREATED:20250310T004514Z
LAST-MODIFIED:20250310T004514Z
UID:716-1747490400-1747494000@www.karabriggs.com
SUMMARY:Hibulb Cultural Center Reading
DESCRIPTION:I will be honored to read from Rivers in My Veins and new works at the landmark Hibulb Cultural Center.
URL:https://www.karabriggs.com/event/hibulb-cultural-center-reading/
LOCATION:Hibulb Cultural Center\, 6410 23rd Ave NE\, Tulalip\, WA\, 98271\, United States
CATEGORIES:Featured Reader
END:VEVENT
BEGIN:VEVENT
DTSTART;TZID=America/Los_Angeles:20250530T160000
DTEND;TZID=America/Los_Angeles:20250530T170000
DTSTAMP:20260425T085813
CREATED:20251116T013652Z
LAST-MODIFIED:20251116T014621Z
UID:737-1748620800-1748624400@www.karabriggs.com
SUMMARY:The Bookstore in Haines
DESCRIPTION:The Bookstore in Haines Alaska is featuring a reading by Kara Briggs from Rivers in My Veins. Kara has tied through marriage to Haines and the Tlingits from the Chilkat Valley.
URL:https://www.karabriggs.com/event/the-bookstore-in-haines/
LOCATION:The Bookstore\, 223 Main St Box 935\, Haines\, AK 99827\, Haines\, AK\, United States
CATEGORIES:Featured Reader
END:VEVENT
BEGIN:VEVENT
DTSTART;TZID=America/Los_Angeles:20250531T150000
DTEND;TZID=America/Los_Angeles:20250531T160000
DTSTAMP:20260425T085813
CREATED:20250111T052948Z
LAST-MODIFIED:20250211T052400Z
UID:679-1748703600-1748707200@www.karabriggs.com
SUMMARY:Arlington\, WA. Library Poetry Reading
DESCRIPTION:Invited by Librarian Monica Jackson sister of my MFA Director at the Institute of American Arts\, the National Book Award finalist Deborah Jackson Taffa. Reading from Rivers in My Veins\, and a few new poems.
URL:https://www.karabriggs.com/event/arlington-wa-library-poetry-reading/
LOCATION:135 N Washington\, Arlington\, WA\, 135 N Washington\, Arlington\, WA\, 98223\, United States
CATEGORIES:Featured Reader
END:VEVENT
BEGIN:VEVENT
DTSTART;TZID=America/Los_Angeles:20250531T150000
DTEND;TZID=America/Los_Angeles:20250531T160000
DTSTAMP:20260425T085813
CREATED:20251116T014018Z
LAST-MODIFIED:20251116T015553Z
UID:744-1748703600-1748707200@www.karabriggs.com
SUMMARY:Sno-Isle Library - Arlington\, Wa
DESCRIPTION:Kara to read from Rivers in My Veins at the Sno-Isle Library In Arlington Wa
URL:https://www.karabriggs.com/event/sno-isle-library-arlington-wa/
CATEGORIES:Featured Reader
END:VEVENT
BEGIN:VEVENT
DTSTART;TZID=America/Los_Angeles:20251114T120000
DTEND;TZID=America/Los_Angeles:20251114T130000
DTSTAMP:20260425T085813
CREATED:20251116T012705Z
LAST-MODIFIED:20251116T012705Z
UID:730-1763121600-1763125200@www.karabriggs.com
SUMMARY:Heritage University Native American Month Reading
DESCRIPTION:Kara is invited by Heritage University to share Rivers in My Veins with over 50 students and faculty from Heritage and from Yakama Tribal High School as part of celebrations for Native American Month. Kara read poems about the Columbia River\, the North Cascades and her family from Yakama Nation. \n  \n(3) Facebook Heritage
URL:https://www.karabriggs.com/event/heritage-university-native-american-month-reading/
LOCATION:Heritage University\, 3240 Fort Rd\, Toppenish\, WA 98948\, Toppenish\, WA\, United States
CATEGORIES:Featured Reader
END:VEVENT
BEGIN:VEVENT
DTSTART;TZID=America/Los_Angeles:20251115T110000
DTEND;TZID=America/Los_Angeles:20251115T120000
DTSTAMP:20260425T085813
CREATED:20251116T013123Z
LAST-MODIFIED:20251116T013123Z
UID:734-1763204400-1763208000@www.karabriggs.com
SUMMARY:Sno-Isle Library\, Sultan WA Reading
DESCRIPTION:Kara is reading at the Sno-Isle Library in Sultan\, Washington. Sultan on the Skykomish River is at the souther end of Sauk-Suiattle Indian Tribe’s territory. Kara who is enrolled Sauk-Suiattle features stories from her tribe in Rivers in My Veins. Kara will read the epic poem Sauk-Suiattle Struggles in the library\, which uses the Sultan City Council Chamber for events. The poem cycle is a land claim for the Sauk-Suiattle Indian Tribe. Kara will unofficially read it in the city record.
URL:https://www.karabriggs.com/event/sno-isle-library-sultan-wa-reading/
LOCATION:Sno-Isle Library\, Sultan\, 319 Main St\, Sultan\, WA\, United States
CATEGORIES:Featured Reader
END:VEVENT
BEGIN:VEVENT
DTSTART;TZID=America/Los_Angeles:20260131T180000
DTEND;TZID=America/Los_Angeles:20260131T190000
DTSTAMP:20260425T085813
CREATED:20251116T044928Z
LAST-MODIFIED:20260119T071238Z
UID:760-1769882400-1769886000@www.karabriggs.com
SUMMARY:Pelican Bay Books\, Madrona Poetry Series\, Anacortes
DESCRIPTION:Poets Kara Briggs and Sati Mookherjee will read for the Madrona Poetry Series at Pelican Bay Books\, an independent family owned book store in Anacortes\, WA.
URL:https://www.karabriggs.com/event/pelican-bay-books-madrona-poetry-series-anacortes/
LOCATION:Pelican Bay Books\, 520 Commercial Ave. Anacortes\, WA 98221\, Anacortes\, WA\, United States
CATEGORIES:Featured Reader
END:VEVENT
BEGIN:VEVENT
DTSTART;TZID=America/Los_Angeles:20260409T180000
DTEND;TZID=America/Los_Angeles:20260409T190000
DTSTAMP:20260425T085813
CREATED:20260119T065432Z
LAST-MODIFIED:20260119T071111Z
UID:784-1775757600-1775761200@www.karabriggs.com
SUMMARY:It's About Time
DESCRIPTION:Kara Briggs is reading in Ballard in Seattle at the once a month It’s About Time poetry series. Organized by Peggy Sturdivent\,
URL:https://www.karabriggs.com/event/its-about-time/
LOCATION:Ballard Public Library\, 5614 22nd Ave NW\, Seattle\, WA\, 98107\, United States
CATEGORIES:Featured Reader
END:VEVENT
BEGIN:VEVENT
DTSTART;TZID=America/Los_Angeles:20260417T200000
DTEND;TZID=America/Los_Angeles:20260417T220000
DTSTAMP:20260425T085813
CREATED:20260407T210216Z
LAST-MODIFIED:20260407T210216Z
UID:791-1776456000-1776463200@www.karabriggs.com
SUMMARY:Unsinkable Tour at Swerve in Skibbereen
DESCRIPTION:Unsinkable: Poems Inspired by the Titanic book launch tour continues
URL:https://www.karabriggs.com/event/unsinkable-tour-at-swerve-in-skibbereen/
LOCATION:Swerve\, 8 Cork Road\, Skibbereen\, P81 YX40\, Ireland
CATEGORIES:Featured Reader,Reading
END:VEVENT
BEGIN:VEVENT
DTSTART;TZID=America/Los_Angeles:20260420T000000
DTEND;TZID=America/Los_Angeles:20820807T160000
DTSTAMP:20260425T085813
CREATED:20260407T210902Z
LAST-MODIFIED:20260407T211214Z
UID:797-1776643200-3553344000@www.karabriggs.com
SUMMARY:Unsinkable: Poems Inspired by the Titanic: Books Upstairs\, Dublin
DESCRIPTION:Books Upstairs: with readings from editors and contributing poets Margo Taft Stever Sandra Yannone Susana H. Case Liam Carson Josephine LoRe Karen J. McDonnell Anne McDonald Judith Thurley Kim Ports Parsons Kara Briggs Patrick Lodge Catherine Ronan Jane Robinson Sunday 19th April\, 2pm | Books Upstairs
URL:https://www.karabriggs.com/event/unsinkable-poems-inspired-by-the-titanic-books-upstairs-dublin/
LOCATION:Books Upstairs\, 17 D'Olier Street\, Dublin 2\, D02 RX06\, Ireland
CATEGORIES:Featured Reader,Reading
END:VEVENT
BEGIN:VEVENT
DTSTART;TZID=America/Los_Angeles:20261003T080000
DTEND;TZID=America/Los_Angeles:20261005T170000
DTSTAMP:20260425T085813
CREATED:20251116T050436Z
LAST-MODIFIED:20251116T050436Z
UID:767-1791014400-1791219600@www.karabriggs.com
SUMMARY:Skagit River Poetry Foundation Festival\, invited poet
DESCRIPTION:
URL:https://www.karabriggs.com/event/skagit-river-poetry-foundation-festival-invited-poet/
CATEGORIES:Featured Reader
END:VEVENT
END:VCALENDAR