BEGIN:VCALENDAR
VERSION:2.0
PRODID:-//Kara Briggs - ECPv6.15.10//NONSGML v1.0//EN
CALSCALE:GREGORIAN
METHOD:PUBLISH
X-WR-CALNAME:Kara Briggs
X-ORIGINAL-URL:https://www.karabriggs.com
X-WR-CALDESC:Events for Kara Briggs
REFRESH-INTERVAL;VALUE=DURATION:PT1H
X-Robots-Tag:noindex
X-PUBLISHED-TTL:PT1H
BEGIN:VTIMEZONE
TZID:America/Los_Angeles
BEGIN:DAYLIGHT
TZOFFSETFROM:-0800
TZOFFSETTO:-0700
TZNAME:PDT
DTSTART:20240310T100000
END:DAYLIGHT
BEGIN:STANDARD
TZOFFSETFROM:-0700
TZOFFSETTO:-0800
TZNAME:PST
DTSTART:20241103T090000
END:STANDARD
BEGIN:DAYLIGHT
TZOFFSETFROM:-0800
TZOFFSETTO:-0700
TZNAME:PDT
DTSTART:20250309T100000
END:DAYLIGHT
BEGIN:STANDARD
TZOFFSETFROM:-0700
TZOFFSETTO:-0800
TZNAME:PST
DTSTART:20251102T090000
END:STANDARD
BEGIN:DAYLIGHT
TZOFFSETFROM:-0800
TZOFFSETTO:-0700
TZNAME:PDT
DTSTART:20260308T100000
END:DAYLIGHT
BEGIN:STANDARD
TZOFFSETFROM:-0700
TZOFFSETTO:-0800
TZNAME:PST
DTSTART:20261101T090000
END:STANDARD
END:VTIMEZONE
BEGIN:VEVENT
DTSTART;TZID=America/Los_Angeles:20250411T160000
DTEND;TZID=America/Los_Angeles:20250411T173000
DTSTAMP:20260424T034012
CREATED:20250211T053155Z
LAST-MODIFIED:20250211T053225Z
UID:687-1744387200-1744392600@www.karabriggs.com
SUMMARY:Washington Library Association Book Bash
DESCRIPTION:I will be joining the WLA Book Bash will celebrate the vibrant talent of authors from Washington and the greater PNW! Rivers in My Veins!!
URL:https://www.karabriggs.com/event/washington-library-association-book-bash/
LOCATION:Greater Tacoma Convention Center\, 1500 Commerce Ave\, Tacoma\, WA\, 98402\, United States
CATEGORIES:Reading
END:VEVENT
END:VCALENDAR