BEGIN:VCALENDAR
VERSION:2.0
PRODID:-//Kara Briggs - ECPv6.15.10//NONSGML v1.0//EN
CALSCALE:GREGORIAN
METHOD:PUBLISH
X-ORIGINAL-URL:https://www.karabriggs.com
X-WR-CALDESC:Events for Kara Briggs
REFRESH-INTERVAL;VALUE=DURATION:PT1H
X-Robots-Tag:noindex
X-PUBLISHED-TTL:PT1H
BEGIN:VTIMEZONE
TZID:America/Los_Angeles
BEGIN:DAYLIGHT
TZOFFSETFROM:-0800
TZOFFSETTO:-0700
TZNAME:PDT
DTSTART:20250309T100000
END:DAYLIGHT
BEGIN:STANDARD
TZOFFSETFROM:-0700
TZOFFSETTO:-0800
TZNAME:PST
DTSTART:20251102T090000
END:STANDARD
BEGIN:DAYLIGHT
TZOFFSETFROM:-0800
TZOFFSETTO:-0700
TZNAME:PDT
DTSTART:20260308T100000
END:DAYLIGHT
BEGIN:STANDARD
TZOFFSETFROM:-0700
TZOFFSETTO:-0800
TZNAME:PST
DTSTART:20261101T090000
END:STANDARD
BEGIN:DAYLIGHT
TZOFFSETFROM:-0800
TZOFFSETTO:-0700
TZNAME:PDT
DTSTART:20270314T100000
END:DAYLIGHT
BEGIN:STANDARD
TZOFFSETFROM:-0700
TZOFFSETTO:-0800
TZNAME:PST
DTSTART:20271107T090000
END:STANDARD
END:VTIMEZONE
BEGIN:VEVENT
DTSTART;TZID=America/Los_Angeles:20260730T190000
DTEND;TZID=America/Los_Angeles:20260730T213000
DTSTAMP:20260424T091245
CREATED:20260407T210414Z
LAST-MODIFIED:20260407T210523Z
UID:794-1785438000-1785447000@www.karabriggs.com
SUMMARY:Shadow Works Writers in White Center\, WA
DESCRIPTION:I am one of the poets reading on July 30\, 2026 in the White Center neighborhood near SeaTac a reading organized by Shaun McMichael\, public school teacher and poet.\n\n\nBeelyn Naihiwet (MOONFULL; Finishing Line Press);\n\n\nMolly Olguín (THE SEA GIVES UP THE DEAD; Red Hen Press);\n\n\nRaúl Sánchez (WHEN WE WERE WATER; World Enough Writers Press);\n\n\nKara Briggs (RIVERS IN MY VEINS; St. Julian Press);\n\n\nRivka Clifton (MUZZLE; Jackleg Press);\n\n\nBenjamin Schmitt (SATAN’S SCHOOL FOR GIRLS; Gold Fish Press)\n\n\nEli Hastings: psychotherapist\, poetry mentor\, editor\, and Pushcart-nominated author of two creative non-fiction books\n\n\nShaun Anthony McMichael\, author of WHISTLE PUNK FALLS (Order your copy here!): public high school teacher\, poet\, writer\, author of 3 books.\n\n\nLocation to be shared closer to the event.
URL:https://www.karabriggs.com/event/shadow-works-writers-in-white-center-wa/
END:VEVENT
BEGIN:VEVENT
DTSTART;TZID=America/Los_Angeles:20261003T080000
DTEND;TZID=America/Los_Angeles:20261005T170000
DTSTAMP:20260424T091245
CREATED:20251116T050436Z
LAST-MODIFIED:20251116T050436Z
UID:767-1791014400-1791219600@www.karabriggs.com
SUMMARY:Skagit River Poetry Foundation Festival\, invited poet
DESCRIPTION:
URL:https://www.karabriggs.com/event/skagit-river-poetry-foundation-festival-invited-poet/
CATEGORIES:Featured Reader
END:VEVENT
END:VCALENDAR