BEGIN:VCALENDAR
VERSION:2.0
PRODID:-//Kara Briggs - ECPv6.15.10//NONSGML v1.0//EN
CALSCALE:GREGORIAN
METHOD:PUBLISH
X-WR-CALNAME:Kara Briggs
X-ORIGINAL-URL:https://www.karabriggs.com
X-WR-CALDESC:Events for Kara Briggs
REFRESH-INTERVAL;VALUE=DURATION:PT1H
X-Robots-Tag:noindex
X-PUBLISHED-TTL:PT1H
BEGIN:VTIMEZONE
TZID:America/Los_Angeles
BEGIN:DAYLIGHT
TZOFFSETFROM:-0800
TZOFFSETTO:-0700
TZNAME:PDT
DTSTART:20230312T100000
END:DAYLIGHT
BEGIN:STANDARD
TZOFFSETFROM:-0700
TZOFFSETTO:-0800
TZNAME:PST
DTSTART:20231105T090000
END:STANDARD
BEGIN:DAYLIGHT
TZOFFSETFROM:-0800
TZOFFSETTO:-0700
TZNAME:PDT
DTSTART:20240310T100000
END:DAYLIGHT
BEGIN:STANDARD
TZOFFSETFROM:-0700
TZOFFSETTO:-0800
TZNAME:PST
DTSTART:20241103T090000
END:STANDARD
BEGIN:DAYLIGHT
TZOFFSETFROM:-0800
TZOFFSETTO:-0700
TZNAME:PDT
DTSTART:20250309T100000
END:DAYLIGHT
BEGIN:STANDARD
TZOFFSETFROM:-0700
TZOFFSETTO:-0800
TZNAME:PST
DTSTART:20251102T090000
END:STANDARD
END:VTIMEZONE
BEGIN:VEVENT
DTSTART;TZID=America/Los_Angeles:20241014T100000
DTEND;TZID=America/Los_Angeles:20241014T110000
DTSTAMP:20260424T085019
CREATED:20241011T052104Z
LAST-MODIFIED:20241011T052104Z
UID:630-1728900000-1728903600@www.karabriggs.com
SUMMARY:City of Seattle's Indigenous Peoples' Day
DESCRIPTION:
URL:https://www.karabriggs.com/event/city-of-seattles-indigenous-peoples-day/
LOCATION:Pier 62 Seattle\, Pier 62\, Seattle\, WA\, United States
CATEGORIES:Reading
END:VEVENT
BEGIN:VEVENT
DTSTART;TZID=America/Los_Angeles:20241019T080000
DTEND;TZID=America/Los_Angeles:20241019T170000
DTSTAMP:20260424T085019
CREATED:20240909T033707Z
LAST-MODIFIED:20240909T033707Z
UID:619-1729324800-1729357200@www.karabriggs.com
SUMMARY:Northwest History Conference
DESCRIPTION:Panel discussion at this conference in Portland about the Confluence Project’s publication\, which the poem”Desloot’s Wapaas” is featured.
URL:https://www.karabriggs.com/event/northwest-history-conference/
CATEGORIES:Panel
END:VEVENT
BEGIN:VEVENT
DTSTART;TZID=America/Los_Angeles:20241026T180000
DTEND;TZID=America/Los_Angeles:20241026T190000
DTSTAMP:20260424T085019
CREATED:20241011T052728Z
LAST-MODIFIED:20241011T052728Z
UID:634-1729965600-1729969200@www.karabriggs.com
SUMMARY:Orca Books Cooperative Reading
DESCRIPTION:
URL:https://www.karabriggs.com/event/orca-books-cooperative-reading/
LOCATION:315 5th Ave SE Olympia\, WA 98501\, 315 5th Ave SE\, Olympia\, WA\, 98501\, United States
CATEGORIES:Featured Reader
END:VEVENT
END:VCALENDAR